BEGIN:VCALENDAR
VERSION:2.0
PRODID:-//CHRISTINE HUSOM - ECPv6.15.20//NONSGML v1.0//EN
CALSCALE:GREGORIAN
METHOD:PUBLISH
X-WR-CALNAME:CHRISTINE HUSOM
X-ORIGINAL-URL:https://www.christinehusom.com
X-WR-CALDESC:Events for CHRISTINE HUSOM
REFRESH-INTERVAL;VALUE=DURATION:PT1H
X-Robots-Tag:noindex
X-PUBLISHED-TTL:PT1H
BEGIN:VTIMEZONE
TZID:America/Chicago
BEGIN:DAYLIGHT
TZOFFSETFROM:-0600
TZOFFSETTO:-0500
TZNAME:CDT
DTSTART:20230312T080000
END:DAYLIGHT
BEGIN:STANDARD
TZOFFSETFROM:-0500
TZOFFSETTO:-0600
TZNAME:CST
DTSTART:20231105T070000
END:STANDARD
BEGIN:DAYLIGHT
TZOFFSETFROM:-0600
TZOFFSETTO:-0500
TZNAME:CDT
DTSTART:20240310T080000
END:DAYLIGHT
BEGIN:STANDARD
TZOFFSETFROM:-0500
TZOFFSETTO:-0600
TZNAME:CST
DTSTART:20241103T070000
END:STANDARD
BEGIN:DAYLIGHT
TZOFFSETFROM:-0600
TZOFFSETTO:-0500
TZNAME:CDT
DTSTART:20250309T080000
END:DAYLIGHT
BEGIN:STANDARD
TZOFFSETFROM:-0500
TZOFFSETTO:-0600
TZNAME:CST
DTSTART:20251102T070000
END:STANDARD
BEGIN:DAYLIGHT
TZOFFSETFROM:-0600
TZOFFSETTO:-0500
TZNAME:CDT
DTSTART:20260308T080000
END:DAYLIGHT
BEGIN:STANDARD
TZOFFSETFROM:-0500
TZOFFSETTO:-0600
TZNAME:CST
DTSTART:20261101T070000
END:STANDARD
END:VTIMEZONE
BEGIN:VEVENT
DTSTART;TZID=America/Chicago:20250816T090000
DTEND;TZID=America/Chicago:20250816T153000
DTSTAMP:20260424T221844
CREATED:20250117T192859Z
LAST-MODIFIED:20250117T192907Z
UID:2078-1755334800-1755358200@www.christinehusom.com
SUMMARY:Buffalo Art and Craft Fair - Buffalo
DESCRIPTION:Their 42nd Anuual with 150+ vendors. A great variety!
URL:https://www.christinehusom.com/event/buffalo-art-and-craft-fair-buffalo-2/
LOCATION:Buffalo Art and Craft Fair -Buffalo\, 877 Bison Blvd\, Buffalo\, MN\, 55313\, United States
END:VEVENT
BEGIN:VEVENT
DTSTART;TZID=America/Chicago:20250809T090000
DTEND;TZID=America/Chicago:20250809T150000
DTSTAMP:20260424T221844
CREATED:20250117T191036Z
LAST-MODIFIED:20250117T193008Z
UID:2076-1754730000-1754751600@www.christinehusom.com
SUMMARY:Northwoods Art and BookFestival - Hackensack
DESCRIPTION:Their 30th Annual. A wonderful event with great authors and artisans!
URL:https://www.christinehusom.com/event/northwoods-art-and-bookfestival/
LOCATION:Northwoods Art and Book Festival\, 3rd Street and Lake Avenue\, Hackensack\, MN\, 56452\, United States
END:VEVENT
BEGIN:VEVENT
DTSTART;TZID=America/Chicago:20250712T090000
DTEND;TZID=America/Chicago:20250712T160000
DTSTAMP:20260424T221844
CREATED:20250425T184612Z
LAST-MODIFIED:20250425T184612Z
UID:2137-1752310800-1752336000@www.christinehusom.com
SUMMARY:Watercade Art in the Park - Litchfield
DESCRIPTION:Their 68th Annual Celebration. The large park is filled with vendors. Please stop by!
URL:https://www.christinehusom.com/event/watercade-art-in-the-park-litchfield-5/
LOCATION:Litchfield Central Park\, Litchfield\, MN\, 55355\, United States
END:VEVENT
BEGIN:VEVENT
DTSTART;TZID=America/Chicago:20250707T000000
DTEND;TZID=America/Chicago:20250707T000000
DTSTAMP:20260424T221844
CREATED:20250117T235522Z
LAST-MODIFIED:20250705T172906Z
UID:2103-1751846400-1751846400@www.christinehusom.com
SUMMARY:Cozy Mystery Party Takeover - Facebook
DESCRIPTION:I’ll be a featured authorat the Cozy Mystery Party Takeover! I’ll do multiple posts and do a drawing and send free books to the winners!
URL:https://www.christinehusom.com/event/cozy-mystery-party-takeover-facebook-2/
LOCATION:MN
END:VEVENT
BEGIN:VEVENT
DTSTART;TZID=America/Chicago:20250621T100000
DTEND;TZID=America/Chicago:20250621T160000
DTSTAMP:20260424T221844
CREATED:20250606T013551Z
LAST-MODIFIED:20250708T193656Z
UID:2157-1750500000-1750521600@www.christinehusom.com
SUMMARY:Book Fest - Maple Lake
DESCRIPTION:I’ll join local authors for a fun day at Spooky Brew Coffee House.   Fantasy\, Mystery\, Romance\, Children’s\, and more. Hope to see you there!
URL:https://www.christinehusom.com/event/book-fest-maple-lake/
LOCATION:Spooky Brew Coffee House\, 120 Oak Avenue N\, Maple Lake\, MN\, 55313\, United States
END:VEVENT
BEGIN:VEVENT
DTSTART;TZID=America/Chicago:20250517T080000
DTEND;TZID=America/Chicago:20250517T170000
DTSTAMP:20260424T221844
CREATED:20250117T222553Z
LAST-MODIFIED:20250506T014240Z
UID:2095-1747468800-1747501200@www.christinehusom.com
SUMMARY:Mainstreet Days Arts and Crafts Festival- Hopkins
DESCRIPTION:My return visit to this annual event with over 140 crafters\, food vendors\, live entertainment and kids’ activities.  Fun!
URL:https://www.christinehusom.com/event/mainstreet-days-arts-and-crafts-festival-hopkins/
LOCATION:Hopkins Mainstreet Days\, Downtown\, Hopkins\, MN\, 55305\, United States
END:VEVENT
BEGIN:VEVENT
DTSTART;TZID=America/Chicago:20250510T100000
DTEND;TZID=America/Chicago:20250510T140000
DTSTAMP:20260424T221844
CREATED:20250425T184140Z
LAST-MODIFIED:20250425T184209Z
UID:2134-1746871200-1746885600@www.christinehusom.com
SUMMARY:Book Signing - Watertown
DESCRIPTION:I’ll be at Heartside Books\, a great store in Watertown. Please stop by!
URL:https://www.christinehusom.com/event/book-signing-watertown/
LOCATION:Hearthside Books\, 229 Lewis Avenue South\, Watertown\, MN\, 55388\, United States
END:VEVENT
BEGIN:VEVENT
DTSTART;TZID=America/Chicago:20250503T100000
DTEND;TZID=America/Chicago:20250503T160000
DTSTAMP:20260424T221844
CREATED:20250119T005139Z
LAST-MODIFIED:20250119T005139Z
UID:2107-1746266400-1746288000@www.christinehusom.com
SUMMARY:Cleawater Corners Market - Clearwater
DESCRIPTION:I’m back for a return visit. Please stop by if you’re in the area!
URL:https://www.christinehusom.com/event/cleawater-corners-market-clearwater/
LOCATION:Cleawater Legion Club\, 505 Pine Street\, Clearwater\, MN\, 55320\, United States
END:VEVENT
BEGIN:VEVENT
DTSTART;TZID=America/Chicago:20250412T100000
DTEND;TZID=America/Chicago:20250412T140000
DTSTAMP:20260424T221844
CREATED:20250315T021035Z
LAST-MODIFIED:20250402T205751Z
UID:2121-1744452000-1744466400@www.christinehusom.com
SUMMARY:Crime\, Coffee\, & Donuts Book Festival - St. Michael
DESCRIPTION:  \n \nThe Twin Cities Sisters In Crime will partner with the St. Michael Friends of the Library for their second mystery event\, with panel discussions. At 10:30: Finding Story Ideas: A new twist on an old plot\, ferreting out bizarre events\, interviewing experts\, and weaving others’ stories into our own. At Noon: Inspired Fiction: Lines blur when real events spark ideas for plots and characters. What is fact and what is fiction? Thirty authors will be on hand with their books! \n 
URL:https://www.christinehusom.com/event/crime-coffee-donuts-book-festival-st-michael/
LOCATION:St. Michael City Hall\, 11800 Town Center Drive\, St. Michael\, MN\, 55376\, United States
END:VEVENT
BEGIN:VEVENT
DTSTART;TZID=America/Chicago:20250322T090000
DTEND;TZID=America/Chicago:20250322T130000
DTSTAMP:20260424T221844
CREATED:20250121T002254Z
LAST-MODIFIED:20250121T002254Z
UID:2109-1742634000-1742648400@www.christinehusom.com
SUMMARY:Women's Expo - Winsted
DESCRIPTION:I’ll be back for this sun event. Stop by and say hi if you’re there!
URL:https://www.christinehusom.com/event/womens-expo-winsted-2/
LOCATION:Blue Note Ballroom\, 320 3rd St South\, Winsted\, MN\, 55395\, United States
END:VEVENT
BEGIN:VEVENT
DTSTART;TZID=America/Chicago:20250308T100000
DTEND;TZID=America/Chicago:20250308T160000
DTSTAMP:20260424T221844
CREATED:20250117T201606Z
LAST-MODIFIED:20250117T221554Z
UID:2090-1741428000-1741449600@www.christinehusom.com
SUMMARY:Clearwater Corners Market - Clearwater
DESCRIPTION:I’ll be a first time vendor there. Please stop by if you’re in the area.
URL:https://www.christinehusom.com/event/clearwater-corners-market/
LOCATION:Cleawater Legion Club\, 505 Pine Street\, Clearwater\, MN\, 55320\, United States
END:VEVENT
BEGIN:VEVENT
DTSTART;TZID=America/Chicago:20250220T183000
DTEND;TZID=America/Chicago:20250220T200000
DTSTAMP:20260424T221844
CREATED:20250117T195535Z
LAST-MODIFIED:20250119T004609Z
UID:2086-1740076200-1740081600@www.christinehusom.com
SUMMARY:Cracked Walnut's Blank Verse Event - Blaine
DESCRIPTION:I’ll join authors Cathy Buchholz\, Barbara Deese\, and Mary Bakos Sebesta at the event\, and will be reading an excerpt from Buried In The House. Please join us!
URL:https://www.christinehusom.com/event/cracked-walnuts-blank-verse-event-blaine/
LOCATION:Anoka County Library – Northtown\, 707 County Rd 10 NE\, Blaine\, MN\, 55434\, United States
END:VEVENT
BEGIN:VEVENT
DTSTART;TZID=America/Chicago:20250220T101000
DTEND;TZID=America/Chicago:20250220T101000
DTSTAMP:20260424T221844
CREATED:20250117T193654Z
LAST-MODIFIED:20250117T193654Z
UID:2082-1740046200-1740046200@www.christinehusom.com
SUMMARY:KRWC Book Club Interview - AM 1360
DESCRIPTION:I’ll be discussing Buried In The House with Tim Matthews and Shelly Garvey. You can listen live at KRWC 1360!
URL:https://www.christinehusom.com/event/krwc-book-club-interview-am-1360/
LOCATION:KRWC Radio for Wright County\, Buffalo\, MN\, 55313\, United States
END:VEVENT
BEGIN:VEVENT
DTSTART;TZID=America/Chicago:20250113T130000
DTEND;TZID=America/Chicago:20250113T133000
DTSTAMP:20260424T221844
CREATED:20250117T234921Z
LAST-MODIFIED:20250117T234921Z
UID:2098-1736773200-1736775000@www.christinehusom.com
SUMMARY:Speaking Event - Buffalo
DESCRIPTION:I’m invited to speak to elementery students about my writing career.
URL:https://www.christinehusom.com/event/speaking-event-buffalo/
LOCATION:Covenant Church\, Buffalo\, MN\, 55313\, United States
END:VEVENT
BEGIN:VEVENT
DTSTART;TZID=America/Chicago:20241221T103000
DTEND;TZID=America/Chicago:20241221T123000
DTSTAMP:20260424T221844
CREATED:20241128T125805Z
LAST-MODIFIED:20241128T125805Z
UID:2054-1734777000-1734784200@www.christinehusom.com
SUMMARY:Buried In The House Book Signing - Buffalo
DESCRIPTION:I’m excited to launch my 11th Winnebago County Mystery at Buffalo Books and Coffee\, and meet with readers!
URL:https://www.christinehusom.com/event/buried-in-the-house-book-signing-buffalo/
LOCATION:Buffalo Books and Coffee\, 6 Division Street East\, Buffalo\, MN\, 55313\, United States
END:VEVENT
BEGIN:VEVENT
DTSTART;TZID=America/Chicago:20241215T153000
DTEND;TZID=America/Chicago:20241215T160000
DTSTAMP:20260424T221844
CREATED:20241104T224026Z
LAST-MODIFIED:20241208T234136Z
UID:2022-1734276600-1734278400@www.christinehusom.com
SUMMARY:Cozy Mystery Party Takeover - Facebook
DESCRIPTION:A three-day event with lots of authors to check out! I’ll do 8 posts that will include a giveway of four books. It’ll be fun!
URL:https://www.christinehusom.com/event/cozy-mystery-party-takeover-facebook/
LOCATION:MN
END:VEVENT
BEGIN:VEVENT
DTSTART;TZID=America/Chicago:20241211T160000
DTEND;TZID=America/Chicago:20241211T170000
DTSTAMP:20260424T221844
CREATED:20241128T125359Z
LAST-MODIFIED:20241128T125359Z
UID:2052-1733932800-1733936400@www.christinehusom.com
SUMMARY:Florida Book Club via Zoom
DESCRIPTION:I’m invited to join a Book Club discussion for my first Snow Globe Shop Mystery\, Snow Way Out\, via Zoom. It’ll be fun!
URL:https://www.christinehusom.com/event/florida-book-club-via-zoom/
LOCATION:MN
END:VEVENT
BEGIN:VEVENT
DTSTART;TZID=America/Chicago:20241209T183000
DTEND;TZID=America/Chicago:20241209T200000
DTSTAMP:20260424T221844
CREATED:20241208T010041Z
LAST-MODIFIED:20241208T010056Z
UID:2062-1733769000-1733774400@www.christinehusom.com
SUMMARY:Book Club Visit - Maple Plain
DESCRIPTION:I’m looking forward to meeting with a book club to talk about Snow Way Out and my other books. Thanks for the invitation\, Cindy!
URL:https://www.christinehusom.com/event/book-club-visit-maple-plain-2/
LOCATION:MN
END:VEVENT
BEGIN:VEVENT
DTSTART;TZID=America/Chicago:20241130T120000
DTEND;TZID=America/Chicago:20241130T140000
DTSTAMP:20260424T221844
CREATED:20241104T202501Z
LAST-MODIFIED:20241104T203158Z
UID:2008-1732968000-1732975200@www.christinehusom.com
SUMMARY:Cookies and Cozies - Once Upon A Crime Bookstore in Minneapolis
DESCRIPTION:  \n \nA fun afternoon of books and treats with fellow authors Laura Childs\, Victoria Laurie\, Sam Tschida and Karen Engstrom!
URL:https://www.christinehusom.com/event/cookies-and-cozies-once-upon-a-crime-bookstore-in-minneapolist/
LOCATION:Once Upon A Crime\, 604 W 26th Street\, Minneapolis\, MN\, 55405\, United States
END:VEVENT
BEGIN:VEVENT
DTSTART;TZID=America/Chicago:20241123T090000
DTEND;TZID=America/Chicago:20241123T140000
DTSTAMP:20260424T221844
CREATED:20240606T191032Z
LAST-MODIFIED:20240606T191032Z
UID:1937-1732352400-1732370400@www.christinehusom.com
SUMMARY:Art Expo and Creative Craft Fair - Howard Lake
DESCRIPTION:A great place to find Christmas\, or other gifts. I’ll be back another year with my book! HLWW Middle School\, 8700 County Road 6 SW Howard Lake\, MN 55349.
URL:https://www.christinehusom.com/event/art-expo-and-creative-craft-fair-howard-lake/
LOCATION:Howard Lake Waverly Winsted High School and Middle School\, 8700 County Road 6 SW\, Howard Lake\, MN\, 55349\, United States
END:VEVENT
BEGIN:VEVENT
DTSTART;TZID=America/Chicago:20241118T083000
DTEND;TZID=America/Chicago:20241118T153000
DTSTAMP:20260424T221844
CREATED:20240720T183933Z
LAST-MODIFIED:20240720T183933Z
UID:1963-1731918600-1731943800@www.christinehusom.com
SUMMARY:Career Exploration Day - Buffalo Senior High School
DESCRIPTION:I’ll speak to students in their classroom about my author career and then be part of the vendor fair in the afternoon. It’ll be fun!
URL:https://www.christinehusom.com/event/career-exploration-day-buffalo-senior-high-school-2/
LOCATION:Buffalo Senior High School\, 877 Bison Blvd\, Buffalo\, MN\, 55313\, United States
END:VEVENT
BEGIN:VEVENT
DTSTART;TZID=America/Chicago:20241116T100000
DTEND;TZID=America/Chicago:20241116T140000
DTSTAMP:20260424T221844
CREATED:20241104T202149Z
LAST-MODIFIED:20241104T202149Z
UID:2005-1731751200-1731765600@www.christinehusom.com
SUMMARY:Minnesota Author Takeover -  Hearthside Books in Watertown
DESCRIPTION:Minnesota Authors Takover with Amy Gregg and Joe Egan. It’ll be fun!
URL:https://www.christinehusom.com/event/minnesota-author-takeover-hearthside-books-in-watertown/
LOCATION:Hearthside Books\, 229 Lewis Avenue South\, Watertown\, MN\, 55388\, United States
END:VEVENT
BEGIN:VEVENT
DTSTART;TZID=America/Chicago:20241107T180000
DTEND;TZID=America/Chicago:20241107T190000
DTSTAMP:20260424T221844
CREATED:20240705T164946Z
LAST-MODIFIED:20241105T024306Z
UID:1952-1731002400-1731006000@www.christinehusom.com
SUMMARY:Author Panel - Rosemount
DESCRIPTION:“She’s All That and a Detective to Boot” Panel with fellow Twin Cities Sisters in Crime authors Jim Bennetts\, Julie Holmes\, and Judy Kerr at the Robert Trail Library. Please join us!
URL:https://www.christinehusom.com/event/author-panel-rosemount-2/
LOCATION:Robert Trail Library\, 14395 S Robert Trail\, Rosemount\, MN\, 55068\, United States
END:VEVENT
BEGIN:VEVENT
DTSTART;TZID=America/Chicago:20241019T103000
DTEND;TZID=America/Chicago:20241019T120000
DTSTAMP:20260424T221844
CREATED:20240528T011944Z
LAST-MODIFIED:20240528T011944Z
UID:1928-1729333800-1729339200@www.christinehusom.com
SUMMARY:Author Panel - Victoria
DESCRIPTION:The Victoria Library\, part of the Carver County Library System invited us to present an author panel. I’ll join fellow Twin Cities Sisters in Crime authors\, Jonathan Sweet\, S.L. Smith\, and Thekla Madsen for a panel discussion: On The Road To Publication. We will discuss our experiences with traditional publishing\, self-publishing\, and vanity presses. It’ll be fun and informative!
URL:https://www.christinehusom.com/event/author-panel-victoria/
LOCATION:Victoria Recreation Center\, 8475 Kochia Lane\, Victoria\, MN\, 55386\, United States
END:VEVENT
BEGIN:VEVENT
DTSTART;TZID=America/Chicago:20241002T180000
DTEND;TZID=America/Chicago:20241002T193000
DTSTAMP:20260424T221844
CREATED:20240715T183253Z
LAST-MODIFIED:20240913T162759Z
UID:1958-1727892000-1727897400@www.christinehusom.com
SUMMARY:Author Panel - Eagan
DESCRIPTION:I will be on a Paranormal Panel with fellow Twin Cities Sisters in Crime authors Bill Anderson\, and Natalie Fowler\, Michel Prince\, and Timya Owen. \n. Spooky fun!  
URL:https://www.christinehusom.com/event/author-panel-eagan/
LOCATION:Wescott Dakota County Library\, 1340 Wescott Road Eagan MN 55123-1029.\, Eagan MN 55123-1029.\, MN\, 55123-1029.\, United States
END:VEVENT
BEGIN:VEVENT
DTSTART;TZID=America/Chicago:20240921T110000
DTEND;TZID=America/Chicago:20240921T190000
DTSTAMP:20260424T221844
CREATED:20240121T025819Z
LAST-MODIFIED:20240917T001120Z
UID:1821-1726916400-1726945200@www.christinehusom.com
SUMMARY:Minnesota Oktoberfest - Delano
DESCRIPTION:2024 official Poster \nLots of vendors and great German music! I’ll be there on Saturday so please stop by.
URL:https://www.christinehusom.com/event/minnesota-oktoberfest-delano-2/
LOCATION:MN Oktoberfest – Delano\, 650 River Street N\, Delano\, MN\, 55328\, United States
END:VEVENT
BEGIN:VEVENT
DTSTART;TZID=America/Chicago:20240915T110000
DTEND;TZID=America/Chicago:20240915T130000
DTSTAMP:20260424T221844
CREATED:20240612T225050Z
LAST-MODIFIED:20240612T225050Z
UID:1940-1726398000-1726405200@www.christinehusom.com
SUMMARY:Book Signing - Maple Lake
DESCRIPTION:I’ll be a guest author at Maple Lake Library’s Under The Awning Book Signing event. It’ll be fun!
URL:https://www.christinehusom.com/event/book-signing-maple-lake/
LOCATION:Maple Lake Library\, 28 Birch Avenue South\, Maple Lake\, MN\, 55358\, United States
END:VEVENT
BEGIN:VEVENT
DTSTART;TZID=America/Chicago:20240905T100000
DTEND;TZID=America/Chicago:20240905T123000
DTSTAMP:20260424T221844
CREATED:20240307T175709Z
LAST-MODIFIED:20240720T183017Z
UID:1846-1725530400-1725539400@www.christinehusom.com
SUMMARY:Annandale Improvement Club Talk - Annandale
DESCRIPTION:I’m honored to be invited back to speak about my books and writing to this wonderful group. It’ll be fun!
URL:https://www.christinehusom.com/event/annandale-improvement-club-talk-annandale/
LOCATION:St. John’s Lutheran Church\, 331 Harrison Street W\, Annandale\, MN\, 55302\, United States
END:VEVENT
BEGIN:VEVENT
DTSTART;VALUE=DATE:20240822
DTEND;VALUE=DATE:20240826
DTSTAMP:20260424T221844
CREATED:20240121T030926Z
LAST-MODIFIED:20240705T165149Z
UID:1823-1724284800-1724630399@www.christinehusom.com
SUMMARY:Killer Nashville International Writer's Conference - Franklin\, TN
DESCRIPTION:I’d looking forward to a return visit! I was asked to do a presentation on Sexual Predators on Friday. https://www.killernashville.com/
URL:https://www.christinehusom.com/event/killer-nashville-international-writers-conference-franklin-tn/
LOCATION:Killer Nashville International Writer’s Conference\, 820 Crescent Centre Drive7067\, Frankin\, TN\, 37067\, United States
END:VEVENT
BEGIN:VEVENT
DTSTART;TZID=America/Chicago:20240817T090000
DTEND;TZID=America/Chicago:20240817T153000
DTSTAMP:20260424T221844
CREATED:20240121T025419Z
LAST-MODIFIED:20240722T185913Z
UID:1819-1723885200-1723908600@www.christinehusom.com
SUMMARY:Buffalo Art and Craft Fair - Buffalo
DESCRIPTION:Their 41st Annual.  Huge venue and the place to shop for gifts. I’ll be there with my books so please stop by and say hi!
URL:https://www.christinehusom.com/event/buffalo-art-and-craft-fair-buffalo/
LOCATION:Downtown Buffalo MN\, Buffalo\, MN\, 55313\, United States
END:VEVENT
END:VCALENDAR