BEGIN:VCALENDAR
VERSION:2.0
PRODID:-//CHRISTINE HUSOM - ECPv6.15.20//NONSGML v1.0//EN
CALSCALE:GREGORIAN
METHOD:PUBLISH
X-ORIGINAL-URL:https://www.christinehusom.com
X-WR-CALDESC:Events for CHRISTINE HUSOM
REFRESH-INTERVAL;VALUE=DURATION:PT1H
X-Robots-Tag:noindex
X-PUBLISHED-TTL:PT1H
BEGIN:VTIMEZONE
TZID:America/Chicago
BEGIN:DAYLIGHT
TZOFFSETFROM:-0600
TZOFFSETTO:-0500
TZNAME:CDT
DTSTART:20250309T080000
END:DAYLIGHT
BEGIN:STANDARD
TZOFFSETFROM:-0500
TZOFFSETTO:-0600
TZNAME:CST
DTSTART:20251102T070000
END:STANDARD
BEGIN:DAYLIGHT
TZOFFSETFROM:-0600
TZOFFSETTO:-0500
TZNAME:CDT
DTSTART:20260308T080000
END:DAYLIGHT
BEGIN:STANDARD
TZOFFSETFROM:-0500
TZOFFSETTO:-0600
TZNAME:CST
DTSTART:20261101T070000
END:STANDARD
BEGIN:DAYLIGHT
TZOFFSETFROM:-0600
TZOFFSETTO:-0500
TZNAME:CDT
DTSTART:20270314T080000
END:DAYLIGHT
BEGIN:STANDARD
TZOFFSETFROM:-0500
TZOFFSETTO:-0600
TZNAME:CST
DTSTART:20271107T070000
END:STANDARD
END:VTIMEZONE
BEGIN:VEVENT
DTSTART;TZID=America/Chicago:20260423T080000
DTEND;TZID=America/Chicago:20260426T170000
DTSTAMP:20260424T081204
CREATED:20260209T013510Z
LAST-MODIFIED:20260327T173956Z
UID:2299-1776931200-1777222800@www.christinehusom.com
SUMMARY:Malice Domestic Conference - Bethesda MD
DESCRIPTION:A fun mystery conference with writers\, librarians\, and readers. I’ll be on the panel\, “I’ve Got A Body Now What? Forensics\, Courtrooms\, and Police Procedures\,” with Mark Bergin\, Mark Thielman\, Bruce Robert Coffin\, Bradley Harper\, Sunday at 9:00 a.m. Marriott North\, 5701 Marinelli Road\, North Bethesda\, Maryland 20852. MD 20817.
URL:https://www.christinehusom.com/event/malice-domestic-conference-bethesda-md/
LOCATION:Malice Domestic\, Bethesda North Marriott Hotel\, Rockville\,\, MD\, 20852\, United States
END:VEVENT
BEGIN:VEVENT
DTSTART;TZID=America/Chicago:20260516T090000
DTEND;TZID=America/Chicago:20260516T160000
DTSTAMP:20260424T081204
CREATED:20260209T005319Z
LAST-MODIFIED:20260209T010630Z
UID:2294-1778922000-1778947200@www.christinehusom.com
SUMMARY:Mainstreet Days - Hopkins
DESCRIPTION:I’m returning to this great event as a vendor with my books. Stop by if you’re in the area!
URL:https://www.christinehusom.com/event/mainstreet-days-hopkins/
LOCATION:Hopkins Mainstreet Days\, Downtown\, Hopkins\, MN\, 55305\, United States
END:VEVENT
BEGIN:VEVENT
DTSTART;TZID=America/Chicago:20260520T180000
DTEND;TZID=America/Chicago:20260520T200000
DTSTAMP:20260424T081204
CREATED:20260209T010918Z
LAST-MODIFIED:20260209T011352Z
UID:2296-1779300000-1779307200@www.christinehusom.com
SUMMARY:Book Club Discussion - Bloomington
DESCRIPTION:I’m excited to join their book club for a discussion of Snow Way Out at the Penn Lake Library!
URL:https://www.christinehusom.com/event/book-club-discussion-bloomington/
LOCATION:Penn Lake Library\, 8800 Penn Avenue South\, Bloomington\, MN\, 55431\, United States
END:VEVENT
BEGIN:VEVENT
DTSTART;VALUE=DATE:20260526
DTEND;VALUE=DATE:20260527
DTSTAMP:20260424T081204
CREATED:20260327T180340Z
LAST-MODIFIED:20260327T180353Z
UID:2340-1779753600-1779839999@www.christinehusom.com
SUMMARY:Author Interview - Bell Cow Productions
DESCRIPTION:My interview with Rob Jung and Michael McBride goes live. Please check it out! YouTube: https://youtu.be/7Lzo9xzUi8w\nSpotify: https://open.spotify.com/episode/5zg72EOwSLeoq460tfSeSi?si=ie81kzX-SIGwKX1DYm1gtw \n 
URL:https://www.christinehusom.com/event/author-interview-bell-cow-productions/
END:VEVENT
BEGIN:VEVENT
DTSTART;TZID=America/Chicago:20260614T100000
DTEND;TZID=America/Chicago:20260614T120000
DTSTAMP:20260424T081204
CREATED:20260212T162006Z
LAST-MODIFIED:20260403T214418Z
UID:2313-1781431200-1781438400@www.christinehusom.com
SUMMARY:Makers & Growers Market -  Maple Lake
DESCRIPTION:I’ll join Debbie Russell for the “Under the Awning” Local Author Series at the Makers and Growers Market\, hosted by the Maple Lake Library. A nice variety of vendors too! \n 
URL:https://www.christinehusom.com/event/makers-growers-market-maple-lake/
LOCATION:Maple Lake Library\, 28 Birch Avenue South\, Maple Lake\, MN\, 55358\, United States
END:VEVENT
BEGIN:VEVENT
DTSTART;TZID=America/Chicago:20260711T090000
DTEND;TZID=America/Chicago:20260711T160000
DTSTAMP:20260424T081204
CREATED:20260412T214937Z
LAST-MODIFIED:20260412T214955Z
UID:2360-1783760400-1783785600@www.christinehusom.com
SUMMARY:Art in the Park - Litchfield
DESCRIPTION:Their 69th Annual Celebration\, and I’ll be there with my books. Central Park is filled with vendors and fun!
URL:https://www.christinehusom.com/event/art-in-the-park-litchfield/
LOCATION:Litchfield Downtown Central Park\, Downtown Litchfield\, Litchfield\, MN\, 55355\, United States
END:VEVENT
BEGIN:VEVENT
DTSTART;TZID=America/Chicago:20260712T130000
DTEND;TZID=America/Chicago:20260712T160000
DTSTAMP:20260424T081204
CREATED:20260301T232312Z
LAST-MODIFIED:20260301T232312Z
UID:2322-1783861200-1783872000@www.christinehusom.com
SUMMARY:Book Fair - New Prague
DESCRIPTION:A Twin Cities Sisters in Crime “Wine and Crime” Book Fair with 18 mystery authors at Next Chapter Winery in New Prague
URL:https://www.christinehusom.com/event/book-fair-new-prague/
LOCATION:Next Chapter Winery\, 16945 320th Street\, New Prague\, MN\, 56071\, United States
END:VEVENT
BEGIN:VEVENT
DTSTART;TZID=America/Chicago:20260718T090000
DTEND;TZID=America/Chicago:20260718T170000
DTSTAMP:20260424T081204
CREATED:20260209T015523Z
LAST-MODIFIED:20260209T015528Z
UID:2307-1784365200-1784394000@www.christinehusom.com
SUMMARY:Art In The Park - Moose Lake
DESCRIPTION:Another huge event with a wide variety of goods\, and I’ll be there with my books. Please stop by in you’re there! Moose City Park\, Downtown Moose Lake\, MN 55767.
URL:https://www.christinehusom.com/event/art-in-the-park-moose-lake-4/
LOCATION:Moose Lake City Park\, Downtown Moose Lake\, Moose Lake\, MN\, 55767\, United States
END:VEVENT
BEGIN:VEVENT
DTSTART;TZID=America/Chicago:20260808T090000
DTEND;TZID=America/Chicago:20260808T150000
DTSTAMP:20260424T081204
CREATED:20260126T160734Z
LAST-MODIFIED:20260126T160734Z
UID:2284-1786179600-1786201200@www.christinehusom.com
SUMMARY:Northwoods Art and Book Festival - Hackensack
DESCRIPTION:Their 31st Annual! It is a great event with a variety of authors and other artisans.
URL:https://www.christinehusom.com/event/northwoods-art-and-book-festival-hackensack-5/
LOCATION:Northwoods Art and Book Festival\, 3rd Street and Lake Avenue\, Hackensack\, MN\, 56452\, United States
END:VEVENT
BEGIN:VEVENT
DTSTART;TZID=America/Chicago:20260815T090000
DTEND;TZID=America/Chicago:20260815T153000
DTSTAMP:20260424T081204
CREATED:20260122T025119Z
LAST-MODIFIED:20260327T183021Z
UID:2276-1786784400-1786807800@www.christinehusom.com
SUMMARY:Art and Craft Festival - Buffalo
DESCRIPTION:Their 43rd Annual Event with over 100 vendors and a large variety of goods! I’ll be there with my books. Due to road construction in downtown Buffalo\, the festival will be held at the Buffalo High School\, east of downtown. Please check it out!
URL:https://www.christinehusom.com/event/art-and-craft-festival-buffalo-4/
LOCATION:Buffalo Art and Craft Fair -Buffalo\, 877 Bison Blvd\, Buffalo\, MN\, 55313\, United States
END:VEVENT
BEGIN:VEVENT
DTSTART;TZID=America/Chicago:20260901T184500
DTEND;TZID=America/Chicago:20260901T194500
DTSTAMP:20260424T081204
CREATED:20260327T183342Z
LAST-MODIFIED:20260327T183342Z
UID:2342-1788288300-1788291900@www.christinehusom.com
SUMMARY:Author Presentation - Twin Cities Sisters In Crime - Minneapolis
DESCRIPTION:I’ll do a presentation on Sexual Predator Cases at our Twin Cities Sisters in Crime monthly meeting.
URL:https://www.christinehusom.com/event/author-presentation-twin-cities-sisters-in-crime-minneapolis/
LOCATION:St Peder’s Evangelical Lutheran Church\, 4600 East 42nd Street\, Minneapolis\, MN\, 55406\, United States
END:VEVENT
BEGIN:VEVENT
DTSTART;TZID=America/Chicago:20260912T110000
DTEND;TZID=America/Chicago:20260912T120000
DTSTAMP:20260424T081204
CREATED:20260327T184109Z
LAST-MODIFIED:20260327T184130Z
UID:2344-1789210800-1789214400@www.christinehusom.com
SUMMARY:Sisters in Crime Panel - Pipestone
DESCRIPTION:Twin Cities Sisters in Crime Author Panel\,“Where History Meets Mystery” with Timya Owens\, Judy Kerr\, and A.W. Powers\, aka Bill Anderson. It will be a good one!
URL:https://www.christinehusom.com/event/sisters-in-crime-panel-pipestone/
LOCATION:Meinders Community Library\, 220 3rd Ave SE\, Pipestone\, MN\, 56164\, United States
END:VEVENT
BEGIN:VEVENT
DTSTART;TZID=America/Chicago:20260919T120000
DTEND;TZID=America/Chicago:20260919T190000
DTSTAMP:20260424T081204
CREATED:20260327T185636Z
LAST-MODIFIED:20260327T191106Z
UID:2350-1789819200-1789844400@www.christinehusom.com
SUMMARY:Minnesota Oktoberfest - Delano
DESCRIPTION:Many vendors and great German food and music. Lederhosen optional :). A fun time!
URL:https://www.christinehusom.com/event/minnesota-oktoberfest-delano-4/
LOCATION:MN Oktoberfest – Delano\, 650 River Street N\, Delano\, MN\, 55328\, United States
END:VEVENT
BEGIN:VEVENT
DTSTART;TZID=America/Chicago:20261003T130000
DTEND;TZID=America/Chicago:20261003T140000
DTSTAMP:20260424T081204
CREATED:20260327T184629Z
LAST-MODIFIED:20260403T213934Z
UID:2347-1791032400-1791036000@www.christinehusom.com
SUMMARY:Sisters in Crime Panel - Marshall
DESCRIPTION:Twin Cities Sisters in Crime Author Panel\,“Where History Meets Mystery\, with Sherry Barbara Deese and A.W. Powers\, aka Bill Anderson. A great group!
URL:https://www.christinehusom.com/event/sisters-in-crime-panel-marshall/
LOCATION:Marshall Lyon County Library\, 201 C Street\, Marshall\, MN\, 56258\, United States
END:VEVENT
BEGIN:VEVENT
DTSTART;TZID=America/Chicago:20261022T080000
DTEND;TZID=America/Chicago:20261025T170000
DTSTAMP:20260424T081204
CREATED:20260209T020750Z
LAST-MODIFIED:20260209T020750Z
UID:2309-1792656000-1792947600@www.christinehusom.com
SUMMARY:Bouchercon International Mystery Conference - Calgary\, Canada.
DESCRIPTION:The world’s largest! In Canada this year. Marriot Downtown Calgary\, Alberta Canada.
URL:https://www.christinehusom.com/event/bouchercon-international-mystery-conference-calgary-canada/
LOCATION:Bouchercon 2026\, 110 9th Ave SE\, Calgary\, Alberta\, T2G 5A6\, Canada
END:VEVENT
BEGIN:VEVENT
DTSTART;TZID=America/Chicago:20261204T160000
DTEND;TZID=America/Chicago:20261204T163000
DTSTAMP:20260424T081204
CREATED:20260417T014227Z
LAST-MODIFIED:20260417T014227Z
UID:2362-1796400000-1796401800@www.christinehusom.com
SUMMARY:Cozy Mystery Takeover - Facebook
DESCRIPTION:I’ll post something about my Snow Globe Shop Mysteries every five minutes and give away some books. It’s fun! \n 
URL:https://www.christinehusom.com/event/cozy-mystery-takeover-facebook-2/
END:VEVENT
END:VCALENDAR