BEGIN:VCALENDAR
VERSION:2.0
PRODID:-//CHRISTINE HUSOM - ECPv6.15.20//NONSGML v1.0//EN
CALSCALE:GREGORIAN
METHOD:PUBLISH
X-WR-CALNAME:CHRISTINE HUSOM
X-ORIGINAL-URL:https://www.christinehusom.com
X-WR-CALDESC:Events for CHRISTINE HUSOM
REFRESH-INTERVAL;VALUE=DURATION:PT1H
X-Robots-Tag:noindex
X-PUBLISHED-TTL:PT1H
BEGIN:VTIMEZONE
TZID:America/Chicago
BEGIN:DAYLIGHT
TZOFFSETFROM:-0600
TZOFFSETTO:-0500
TZNAME:CDT
DTSTART:20240310T080000
END:DAYLIGHT
BEGIN:STANDARD
TZOFFSETFROM:-0500
TZOFFSETTO:-0600
TZNAME:CST
DTSTART:20241103T070000
END:STANDARD
BEGIN:DAYLIGHT
TZOFFSETFROM:-0600
TZOFFSETTO:-0500
TZNAME:CDT
DTSTART:20250309T080000
END:DAYLIGHT
BEGIN:STANDARD
TZOFFSETFROM:-0500
TZOFFSETTO:-0600
TZNAME:CST
DTSTART:20251102T070000
END:STANDARD
BEGIN:DAYLIGHT
TZOFFSETFROM:-0600
TZOFFSETTO:-0500
TZNAME:CDT
DTSTART:20260308T080000
END:DAYLIGHT
BEGIN:STANDARD
TZOFFSETFROM:-0500
TZOFFSETTO:-0600
TZNAME:CST
DTSTART:20261101T070000
END:STANDARD
BEGIN:DAYLIGHT
TZOFFSETFROM:-0600
TZOFFSETTO:-0500
TZNAME:CDT
DTSTART:20270314T080000
END:DAYLIGHT
BEGIN:STANDARD
TZOFFSETFROM:-0500
TZOFFSETTO:-0600
TZNAME:CST
DTSTART:20271107T070000
END:STANDARD
END:VTIMEZONE
BEGIN:VEVENT
DTSTART;TZID=America/Chicago:20260718T090000
DTEND;TZID=America/Chicago:20260718T170000
DTSTAMP:20260424T200628
CREATED:20260209T015523Z
LAST-MODIFIED:20260209T015528Z
UID:2307-1784365200-1784394000@www.christinehusom.com
SUMMARY:Art In The Park - Moose Lake
DESCRIPTION:Another huge event with a wide variety of goods\, and I’ll be there with my books. Please stop by in you’re there! Moose City Park\, Downtown Moose Lake\, MN 55767.
URL:https://www.christinehusom.com/event/art-in-the-park-moose-lake-4/
LOCATION:Moose Lake City Park\, Downtown Moose Lake\, Moose Lake\, MN\, 55767\, United States
END:VEVENT
BEGIN:VEVENT
DTSTART;TZID=America/Chicago:20260712T130000
DTEND;TZID=America/Chicago:20260712T160000
DTSTAMP:20260424T200628
CREATED:20260301T232312Z
LAST-MODIFIED:20260301T232312Z
UID:2322-1783861200-1783872000@www.christinehusom.com
SUMMARY:Book Fair - New Prague
DESCRIPTION:A Twin Cities Sisters in Crime “Wine and Crime” Book Fair with 18 mystery authors at Next Chapter Winery in New Prague
URL:https://www.christinehusom.com/event/book-fair-new-prague/
LOCATION:Next Chapter Winery\, 16945 320th Street\, New Prague\, MN\, 56071\, United States
END:VEVENT
BEGIN:VEVENT
DTSTART;TZID=America/Chicago:20260711T090000
DTEND;TZID=America/Chicago:20260711T160000
DTSTAMP:20260424T200628
CREATED:20260412T214937Z
LAST-MODIFIED:20260412T214955Z
UID:2360-1783760400-1783785600@www.christinehusom.com
SUMMARY:Art in the Park - Litchfield
DESCRIPTION:Their 69th Annual Celebration\, and I’ll be there with my books. Central Park is filled with vendors and fun!
URL:https://www.christinehusom.com/event/art-in-the-park-litchfield/
LOCATION:Litchfield Downtown Central Park\, Downtown Litchfield\, Litchfield\, MN\, 55355\, United States
END:VEVENT
BEGIN:VEVENT
DTSTART;TZID=America/Chicago:20260614T100000
DTEND;TZID=America/Chicago:20260614T120000
DTSTAMP:20260424T200628
CREATED:20260212T162006Z
LAST-MODIFIED:20260403T214418Z
UID:2313-1781431200-1781438400@www.christinehusom.com
SUMMARY:Makers & Growers Market -  Maple Lake
DESCRIPTION:I’ll join Debbie Russell for the “Under the Awning” Local Author Series at the Makers and Growers Market\, hosted by the Maple Lake Library. A nice variety of vendors too! \n 
URL:https://www.christinehusom.com/event/makers-growers-market-maple-lake/
LOCATION:Maple Lake Library\, 28 Birch Avenue South\, Maple Lake\, MN\, 55358\, United States
END:VEVENT
BEGIN:VEVENT
DTSTART;VALUE=DATE:20260526
DTEND;VALUE=DATE:20260527
DTSTAMP:20260424T200628
CREATED:20260327T180340Z
LAST-MODIFIED:20260327T180353Z
UID:2340-1779753600-1779839999@www.christinehusom.com
SUMMARY:Author Interview - Bell Cow Productions
DESCRIPTION:My interview with Rob Jung and Michael McBride goes live. Please check it out! YouTube: https://youtu.be/7Lzo9xzUi8w\nSpotify: https://open.spotify.com/episode/5zg72EOwSLeoq460tfSeSi?si=ie81kzX-SIGwKX1DYm1gtw \n 
URL:https://www.christinehusom.com/event/author-interview-bell-cow-productions/
END:VEVENT
BEGIN:VEVENT
DTSTART;TZID=America/Chicago:20260520T180000
DTEND;TZID=America/Chicago:20260520T200000
DTSTAMP:20260424T200628
CREATED:20260209T010918Z
LAST-MODIFIED:20260209T011352Z
UID:2296-1779300000-1779307200@www.christinehusom.com
SUMMARY:Book Club Discussion - Bloomington
DESCRIPTION:I’m excited to join their book club for a discussion of Snow Way Out at the Penn Lake Library!
URL:https://www.christinehusom.com/event/book-club-discussion-bloomington/
LOCATION:Penn Lake Library\, 8800 Penn Avenue South\, Bloomington\, MN\, 55431\, United States
END:VEVENT
BEGIN:VEVENT
DTSTART;TZID=America/Chicago:20260516T090000
DTEND;TZID=America/Chicago:20260516T160000
DTSTAMP:20260424T200628
CREATED:20260209T005319Z
LAST-MODIFIED:20260209T010630Z
UID:2294-1778922000-1778947200@www.christinehusom.com
SUMMARY:Mainstreet Days - Hopkins
DESCRIPTION:I’m returning to this great event as a vendor with my books. Stop by if you’re in the area!
URL:https://www.christinehusom.com/event/mainstreet-days-hopkins/
LOCATION:Hopkins Mainstreet Days\, Downtown\, Hopkins\, MN\, 55305\, United States
END:VEVENT
BEGIN:VEVENT
DTSTART;TZID=America/Chicago:20260423T080000
DTEND;TZID=America/Chicago:20260426T170000
DTSTAMP:20260424T200628
CREATED:20260209T013510Z
LAST-MODIFIED:20260327T173956Z
UID:2299-1776931200-1777222800@www.christinehusom.com
SUMMARY:Malice Domestic Conference - Bethesda MD
DESCRIPTION:A fun mystery conference with writers\, librarians\, and readers. I’ll be on the panel\, “I’ve Got A Body Now What? Forensics\, Courtrooms\, and Police Procedures\,” with Mark Bergin\, Mark Thielman\, Bruce Robert Coffin\, Bradley Harper\, Sunday at 9:00 a.m. Marriott North\, 5701 Marinelli Road\, North Bethesda\, Maryland 20852. MD 20817.
URL:https://www.christinehusom.com/event/malice-domestic-conference-bethesda-md/
LOCATION:Malice Domestic\, Bethesda North Marriott Hotel\, Rockville\,\, MD\, 20852\, United States
END:VEVENT
BEGIN:VEVENT
DTSTART;VALUE=DATE:20260416
DTEND;VALUE=DATE:20260417
DTSTAMP:20260424T200628
CREATED:20260327T175248Z
LAST-MODIFIED:20260327T175248Z
UID:2336-1776297600-1776383999@www.christinehusom.com
SUMMARY:Author Panel  Discussion - Bell Cow Productions
DESCRIPTION:“Mystery of the Ordinary\, Turning Everyday Life Into Page-Turning Fiction.” With Bob Jung\, Michael McBride\, Marjorie Mathison Hance\, Michael Allan Mallory\, and John Heckenlaible. A great time! YouTube: https://youtu.be/zNM-g77tKlQ Spotify: https://open.spotify.com/episode/2H1JFptA5LBDMzKAHsJlu1?si=UnQ9yndqQm2q0DU3H55_nQ
URL:https://www.christinehusom.com/event/author-panel-discussion-bell-cow-productions/
END:VEVENT
BEGIN:VEVENT
DTSTART;TZID=America/Chicago:20260411T120000
DTEND;TZID=America/Chicago:20260411T140000
DTSTAMP:20260424T200628
CREATED:20260327T174521Z
LAST-MODIFIED:20260327T174901Z
UID:2334-1775908800-1775916000@www.christinehusom.com
SUMMARY:Book Signing - Once Upon A Crime Bookstore - Minneapolis
DESCRIPTION:Book signing and meet and greet with fellow author\, Jeffrey Burton. Please join us at this wonderful bookstore!
URL:https://www.christinehusom.com/event/book-signing-once-upon-a-crime-bookstore-minneapolis/
LOCATION:Once Upon A Crime\, 604 W 26th Street\, Minneapolis\, MN\, 55405\, United States
END:VEVENT
BEGIN:VEVENT
DTSTART;TZID=America/Chicago:20260321T100000
DTEND;TZID=America/Chicago:20260321T130000
DTSTAMP:20260424T200628
CREATED:20260209T005014Z
LAST-MODIFIED:20260209T014808Z
UID:2292-1774087200-1774098000@www.christinehusom.com
SUMMARY:Book Signing - Hearthside Books in Watertown
DESCRIPTION:I’ll be at Hearthside signing books\, and am looking forward to connecting with readers. Please stop by! 229 Lewis Avenue South\, Watertown\, MN 55388.
URL:https://www.christinehusom.com/event/book-signing-heartside-books-in-watertown/
LOCATION:Hearthside Books\, 229 Lewis Avenue South\, Watertown\, MN\, 55388\, United States
END:VEVENT
BEGIN:VEVENT
DTSTART;TZID=America/Chicago:20260314T100000
DTEND;TZID=America/Chicago:20260314T160000
DTSTAMP:20260424T200628
CREATED:20260122T023816Z
LAST-MODIFIED:20260301T231747Z
UID:2268-1773482400-1773504000@www.christinehusom.com
SUMMARY:Writers Festival and Book Fair - Rosemount
DESCRIPTION:They connect authors and other experts in the field. Many to visit with\, and check out. I’ll be there with my book books!
URL:https://www.christinehusom.com/event/writers-festival-and-book-fair-rosemount/
LOCATION:Steeple Center\, 14375 S Robert Trail\, Rosemount\, MN\, 55068\, United States
END:VEVENT
BEGIN:VEVENT
DTSTART;TZID=America/Chicago:20260310T120000
DTEND;TZID=America/Chicago:20260310T140000
DTSTAMP:20260424T200628
CREATED:20260122T024549Z
LAST-MODIFIED:20260126T161501Z
UID:2272-1773144000-1773151200@www.christinehusom.com
SUMMARY:Speaking Engagement - Osseo Book Club
DESCRIPTION:I’m honored to be the guest speaker at the Osseo Book Club\, and meet the members!
URL:https://www.christinehusom.com/event/speaking-engagement-osseo/
LOCATION:Edinburgh USA Golf Club\, 8700 Edinburgh Crossing\, Brooklyn Park\, MN\, 55443\, United States
END:VEVENT
BEGIN:VEVENT
DTSTART;TZID=America/Chicago:20260307T090000
DTEND;TZID=America/Chicago:20260307T130000
DTSTAMP:20260424T200628
CREATED:20260122T022909Z
LAST-MODIFIED:20260209T004650Z
UID:2266-1772874000-1772888400@www.christinehusom.com
SUMMARY:Women's Expo - Winsted
DESCRIPTION:The Winsted Area Chamber of Commerce Annual Expo. Lots of vendors and a fun day!
URL:https://www.christinehusom.com/event/womens-expo-winsted-3/
LOCATION:Blue Note Ballroom\, 320 3rd St South\, Winsted\, MN\, 55395\, United States
END:VEVENT
BEGIN:VEVENT
DTSTART;TZID=America/Chicago:20260222T120000
DTEND;TZID=America/Chicago:20260222T140000
DTSTAMP:20260424T200628
CREATED:20260209T004612Z
LAST-MODIFIED:20260209T004612Z
UID:2289-1771761600-1771768800@www.christinehusom.com
SUMMARY:Book Launch - Buffalo Books and Coffee
DESCRIPTION:The 5th Snow Globe Shop Mystery\, Snow Place Like Home launch. The series is set in Brooks Landing\, which bears a strong resemblance to Buffalo\, Minnesota. \nCamryn Brooks is the Curio Finds manager–a shop with snow globes from around the world–and is the current town mayor. She’s also assumed the role of amateur sleuth when people die under suspicious circumstances\, and she feels duty-bound to uncover who dunnit. \nFrom the Snow Place Like Home back cover: “The past collides with the present for Camryn Brooks one cold winter evening when a man’s body is found in the passenger seat of a car\, parked in her driveway. Camryn is chilled to the bone when she learns his identity: her old nemesis\, the one whose actions ruined her career and tarnished her stellar reputation in Washington D.C.”
URL:https://www.christinehusom.com/event/book-launch-buffalo-books-and-coffee/
LOCATION:Buffalo Books and Coffee\, 6 Division Street East\, Buffalo\, MN\, 55313\, United States
END:VEVENT
BEGIN:VEVENT
DTSTART;TZID=America/Chicago:20251212T110000
DTEND;TZID=America/Chicago:20251212T120000
DTSTAMP:20260424T200628
CREATED:20250928T190900Z
LAST-MODIFIED:20251210T225100Z
UID:2220-1765537200-1765540800@www.christinehusom.com
SUMMARY:Twin Cities Sisters in Crime Panel - Eagan - Private Event
DESCRIPTION:I’ll moderate a “True Crime and the Mystery Writer\,” panel with Frank Weber\, Jessie Chandler\, and Judy Kerr as part of the Dakota County Library staff workshop. We’ll be there beforehand to meet with staff and answer questions. It’ll be great! Lost Spur Golf and Event Center\, 2750 Sibley Memorial Highway\, Eagan MN\, 55121.
URL:https://www.christinehusom.com/event/twin-cities-sisters-in-crime-panel-eagan/
LOCATION:Dakota County Library – Eagan\, Lost Spur Golf and Event Center\, 2750 Sibley Memorial Highway\, Eagan\, MN\, 55121\, United States
END:VEVENT
BEGIN:VEVENT
DTSTART;TZID=America/Chicago:20251209T190000
DTEND;TZID=America/Chicago:20251209T194500
DTSTAMP:20260424T200628
CREATED:20250928T184139Z
LAST-MODIFIED:20260301T233134Z
UID:2211-1765306800-1765309500@www.christinehusom.com
SUMMARY:Bell Cow Productions Podcast Interview - Zoom
DESCRIPTION:Rob Jung and Michael McBride’s book marketing company. A new venture!
URL:https://www.christinehusom.com/event/cow-bell-productions-podcast-interview/
END:VEVENT
BEGIN:VEVENT
DTSTART;TZID=America/Chicago:20251207T160000
DTEND;TZID=America/Chicago:20251207T163000
DTSTAMP:20260424T200628
CREATED:20250606T014749Z
LAST-MODIFIED:20250928T195103Z
UID:2165-1765123200-1765125000@www.christinehusom.com
SUMMARY:Cozy Mystery Takeover - Facebook
DESCRIPTION:Cozy Mystery Takeover Facebook Group. I’ll post something about my books every 5 minutes and do book giveaways. Fun!
URL:https://www.christinehusom.com/event/cozy-mystery-takeover-facebook/
END:VEVENT
BEGIN:VEVENT
DTSTART;TZID=America/Chicago:20251122T090000
DTEND;TZID=America/Chicago:20251122T140000
DTSTAMP:20260424T200628
CREATED:20250606T014441Z
LAST-MODIFIED:20251117T222605Z
UID:2163-1763802000-1763820000@www.christinehusom.com
SUMMARY:Arts and Creative Craft Fair - Howard Lake
DESCRIPTION:It’s a great place to find a wide variety of items for yourself and others!
URL:https://www.christinehusom.com/event/arts-and-creative-craft-fair-howard-lake/
LOCATION:Howard Lake Waverly Winsted High School and Middle School\, 8700 County Road 6 SW\, Howard Lake\, MN\, 55349\, United States
END:VEVENT
BEGIN:VEVENT
DTSTART;TZID=America/Chicago:20251119T073000
DTEND;TZID=America/Chicago:20251119T083000
DTSTAMP:20260424T200628
CREATED:20250829T163845Z
LAST-MODIFIED:20251117T222242Z
UID:2197-1763537400-1763541000@www.christinehusom.com
SUMMARY:Author Talk - Minnetonka Rotary
DESCRIPTION:I will speaking to the Club about the writing process and my books. I’m looking forward to meeting fellow Rotarians!
URL:https://www.christinehusom.com/event/author-talk-minnetonka-rotary/
LOCATION:Minnetonka Marsh\, 15000 Minnetonka Blvd\, Minnetonka\, MN\, 55345\, United States
END:VEVENT
BEGIN:VEVENT
DTSTART;TZID=America/Chicago:20251117T085500
DTEND;TZID=America/Chicago:20251117T110000
DTSTAMP:20260424T200628
CREATED:20250928T184557Z
LAST-MODIFIED:20250928T184607Z
UID:2213-1763369700-1763377200@www.christinehusom.com
SUMMARY:Career Awareness Day Presentation - Buffalo
DESCRIPTION:I’ll speak with two groups of students about my writing career. It’ll be a great experience.
URL:https://www.christinehusom.com/event/career-awareness-day-presentation-buffalo/
LOCATION:Buffalo Senior High School\, 877 Bison Blvd\, Buffalo\, MN\, 55313\, United States
END:VEVENT
BEGIN:VEVENT
DTSTART;TZID=America/Chicago:20251018T100000
DTEND;TZID=America/Chicago:20251018T170000
DTSTAMP:20260424T200628
CREATED:20250729T010853Z
LAST-MODIFIED:20250928T185210Z
UID:2179-1760781600-1760806800@www.christinehusom.com
SUMMARY:Lakes Area Writers Alliance Annual Fall Conference - Brainerd
DESCRIPTION:Lakes Area Writers Alliance Conference. The theme is: A Writer’s Road Map\, with authors and publishing professionals to “help attendees navigate the various highways\, byways\, rest stops\, detours\, and dead ends along their writing journeys.” The four panels: The Craft and Art of Writing\, Publishing\, Publishing Professionals\, and Life After Publication. I’m honored to be on the Craft and Art of Writing panel. Madden’s on Gull Lake\, 11266 Pine Beach Peninsula\, Brainerd\, MN 56401.
URL:https://www.christinehusom.com/event/lakes-area-writers-alliance-annual-fall-conference-maddens-on-gull-lake/
LOCATION:Madden’s on Gull Lake\, 11266 Pine Beach Peninsula\, Brainerd\, MN\, 56401\, United States
END:VEVENT
BEGIN:VEVENT
DTSTART;TZID=America/Chicago:20251016T101000
DTEND;TZID=America/Chicago:20251016T103000
DTSTAMP:20260424T200628
CREATED:20251016T010751Z
LAST-MODIFIED:20251016T010826Z
UID:2235-1760609400-1760610600@www.christinehusom.com
SUMMARY:Radio Interview - KRWC AM
DESCRIPTION:Author Spotlight. I’ll discuss the Snow Globe Shop Mysteries\, and Snow Place Like Home\, 5th  in the series.
URL:https://www.christinehusom.com/event/radio-interview-krwc-am/
END:VEVENT
BEGIN:VEVENT
DTSTART;TZID=America/Chicago:20251007T183000
DTEND;TZID=America/Chicago:20251007T200000
DTSTAMP:20260424T200628
CREATED:20250915T015827Z
LAST-MODIFIED:20250929T010138Z
UID:2202-1759861800-1759867200@www.christinehusom.com
SUMMARY:Author Panel - Minneapolis
DESCRIPTION:Twin Cities Sisters in Crime Panel\, “Writing a Series\,” with Jessie Chandler\, Mike Faricy\, and moderated by Julie Holmes. St. Peder’s Lutheran Church\, 4600 E 42nd St\, Minneapolis\, MN 55406. Please join us!
URL:https://www.christinehusom.com/event/author-panel-minneapolis/
LOCATION:St Peder’s Evangelical Lutheran Church\, 4600 East 42nd Street\, Minneapolis\, MN\, 55406\, United States
END:VEVENT
BEGIN:VEVENT
DTSTART;TZID=America/Chicago:20250920T120000
DTEND;TZID=America/Chicago:20250920T190000
DTSTAMP:20260424T200628
CREATED:20250606T014125Z
LAST-MODIFIED:20250606T014125Z
UID:2161-1758369600-1758394800@www.christinehusom.com
SUMMARY:Minnesota Oktoberfest - Delano
DESCRIPTION:Lots of vendors and great German food and music. I’ll be there with my books!
URL:https://www.christinehusom.com/event/minnesota-oktoberfest-delano-3/
LOCATION:MN Oktoberfest – Delano\, 650 River Street N\, Delano\, MN\, 55328\, United States
END:VEVENT
BEGIN:VEVENT
DTSTART;VALUE=DATE:20250903
DTEND;VALUE=DATE:20250908
DTSTAMP:20260424T200628
CREATED:20250606T015315Z
LAST-MODIFIED:20250730T015016Z
UID:2167-1756857600-1757289599@www.christinehusom.com
SUMMARY:Bouchercon Mystery Convention - New Orleans
DESCRIPTION:The world’s largest international mystery convention. Lots of great events on the schedule. I will be moderating a panel\, Crafting A Cozy: The Essential Elements\, with authors William Baer\, SK Golden\, Leigh Perry\, Lori Robbins\,  and Suzanne Trauth. Fun!
URL:https://www.christinehusom.com/event/bouchercon-mystery-convention-new-orleans/
LOCATION:Bouchercon 2025\, 555 Canal Street\, New Orleans\, LA.\, New Orleans\, LA\, United States
END:VEVENT
BEGIN:VEVENT
DTSTART;TZID=America/Chicago:20250823T100000
DTEND;TZID=America/Chicago:20250823T140000
DTSTAMP:20260424T200628
CREATED:20250513T231030Z
LAST-MODIFIED:20250513T231030Z
UID:2148-1755943200-1755957600@www.christinehusom.com
SUMMARY:Book Signing - Hearthside Books
DESCRIPTION:I’ll join my Sisters in Crime friends\, mystery authors Cathy Buchholz\, Barbara Deese\, and Mary Bakos to meet and greet readers at this great bookstore
URL:https://www.christinehusom.com/event/book-signing-hearthside-books/
LOCATION:Hearthside Books\, 229 Lewis Avenue South\, Watertown\, MN\, 55388\, United States
END:VEVENT
BEGIN:VEVENT
DTSTART;TZID=America/Chicago:20250816T090000
DTEND;TZID=America/Chicago:20250816T153000
DTSTAMP:20260424T200628
CREATED:20250117T192859Z
LAST-MODIFIED:20250117T192907Z
UID:2078-1755334800-1755358200@www.christinehusom.com
SUMMARY:Buffalo Art and Craft Fair - Buffalo
DESCRIPTION:Their 42nd Anuual with 150+ vendors. A great variety!
URL:https://www.christinehusom.com/event/buffalo-art-and-craft-fair-buffalo-2/
LOCATION:Buffalo Art and Craft Fair -Buffalo\, 877 Bison Blvd\, Buffalo\, MN\, 55313\, United States
END:VEVENT
BEGIN:VEVENT
DTSTART;TZID=America/Chicago:20250809T090000
DTEND;TZID=America/Chicago:20250809T150000
DTSTAMP:20260424T200628
CREATED:20250117T191036Z
LAST-MODIFIED:20250117T193008Z
UID:2076-1754730000-1754751600@www.christinehusom.com
SUMMARY:Northwoods Art and BookFestival - Hackensack
DESCRIPTION:Their 30th Annual. A wonderful event with great authors and artisans!
URL:https://www.christinehusom.com/event/northwoods-art-and-bookfestival/
LOCATION:Northwoods Art and Book Festival\, 3rd Street and Lake Avenue\, Hackensack\, MN\, 56452\, United States
END:VEVENT
BEGIN:VEVENT
DTSTART;TZID=America/Chicago:20250712T090000
DTEND;TZID=America/Chicago:20250712T160000
DTSTAMP:20260424T200628
CREATED:20250425T184612Z
LAST-MODIFIED:20250425T184612Z
UID:2137-1752310800-1752336000@www.christinehusom.com
SUMMARY:Watercade Art in the Park - Litchfield
DESCRIPTION:Their 68th Annual Celebration. The large park is filled with vendors. Please stop by!
URL:https://www.christinehusom.com/event/watercade-art-in-the-park-litchfield-5/
LOCATION:Litchfield Central Park\, Litchfield\, MN\, 55355\, United States
END:VEVENT
END:VCALENDAR